BEGIN:VCALENDAR
VERSION:2.0
PRODID:-//https://vbal.lu///NONSGML kigkonsult.se iCalcreator 2.10.15//
METHOD:PUBLISH
BEGIN:VEVENT
UID:20211006T215704CEST-4963nSZvDD@https://vbal.lu/
DTSTAMP:20211006T195704Z
DESCRIPTION: https://vbal.lu/index.php/features/event/87-minimes-poule-3-t3
DTSTART:20211204T140000Z
DTEND:20211204T150000Z
LOCATION:Hall Omnisport Belair (14 Rue d'Ostende\, 2271 Luxembourg\, Luxemb
 urg)
SUMMARY:Minimes Poule 3 T3
URL:https://vbal.lu/index.php/features/event/87-minimes-poule-3-t3
END:VEVENT
BEGIN:VEVENT
UID:20211006T215704CEST-4967VaOmjW@https://vbal.lu/
DTSTAMP:20211006T195704Z
DESCRIPTION: https://vbal.lu/index.php/features/event/89-d2d-vbal-1-vs-cs-g
 ym-volley-2
DTSTART:20211204T180000Z
DTEND:20211204T200000Z
LOCATION:Hall Omnisport Junglinster (7 Route d'Echternach\, 6114 Junglinste
 r\, Luxembourg)
SUMMARY:D2D VBAL 1 vs. CS Gym Volley 2
URL:https://vbal.lu/index.php/features/event/89-d2d-vbal-1-vs-cs-gym-volley
 -2
END:VEVENT
BEGIN:VEVENT
UID:20211006T215704CEST-4971t6pe88@https://vbal.lu/
DTSTAMP:20211006T195704Z
DESCRIPTION:&nbsp\;\n\n&nbsp\;\n https://vbal.lu/index.php/features/event/9
 6-d3d-vbal-2-vs-escher-vbc-2
DTSTART:20211204T160000Z
DTEND:20211204T180000Z
LOCATION:Hall Omnisport Junglinster (7 Route d'Echternach\, 6114 Junglinste
 r\, Luxembourg)
SUMMARY:D3D VBAL 2 vs. Escher VBC 2
URL:https://vbal.lu/index.php/features/event/96-d3d-vbal-2-vs-escher-vbc-2
END:VEVENT
END:VCALENDAR
