BEGIN:VCALENDAR
VERSION:2.0
PRODID:-//https://vbal.lu///NONSGML kigkonsult.se iCalcreator 2.10.15//
METHOD:PUBLISH
BEGIN:VEVENT
UID:20211006T215627CEST-93805HHVs9@https://vbal.lu/
DTSTAMP:20211006T195627Z
DESCRIPTION: https://vbal.lu/index.php/features/event/67-scolaires-poule1-t
 3
DTSTART:20211128T140000Z
DTEND:20211128T150000Z
LOCATION:Centre Sportif Steinfort (7A Rue de Hagen\, 8436 Steinfort\, Luxem
 bourg)
SUMMARY:Scolaires Poule1 T3
URL:https://vbal.lu/index.php/features/event/67-scolaires-poule1-t3
END:VEVENT
END:VCALENDAR
