BEGIN:VCALENDAR
VERSION:2.0
PRODID:-//https://vbal.lu///NONSGML kigkonsult.se iCalcreator 2.10.15//
METHOD:PUBLISH
BEGIN:VEVENT
UID:20211006T215618CEST-7342wrvdmU@https://vbal.lu/
DTSTAMP:20211006T195618Z
DESCRIPTION: https://vbal.lu/index.php/features/event/65-d1h-vbal-vs-escher
 -vbc-2
DTSTART:20211127T180000Z
DTEND:20211127T200000Z
LOCATION:Hall Omnisport Junglinster (7 Route d'Echternach\, 6114 Junglinste
 r\, Luxembourg)
SUMMARY:D1H VBAL vs. Escher VBC 2
URL:https://vbal.lu/index.php/features/event/65-d1h-vbal-vs-escher-vbc-2
END:VEVENT
END:VCALENDAR
