BEGIN:VCALENDAR
VERSION:2.0
PRODID:-//https://vbal.lu///NONSGML kigkonsult.se iCalcreator 2.10.15//
METHOD:PUBLISH
BEGIN:VEVENT
UID:20211006T215534CEST-0630nZulRl@https://vbal.lu/
DTSTAMP:20211006T195534Z
DESCRIPTION: https://vbal.lu/index.php/features/event/83-minimes-poule-3-t2
DTSTART:20211121T140000Z
DTEND:20211121T150000Z
LOCATION:Hall Omnisport Junglinster (7 Route d'Echternach\, 6114 Junglinste
 r\, Luxembourg)
SUMMARY:Minimes Poule 3 T2
URL:https://vbal.lu/index.php/features/event/83-minimes-poule-3-t2
END:VEVENT
END:VCALENDAR
