BEGIN:VCALENDAR
VERSION:2.0
PRODID:-//https://vbal.lu///NONSGML kigkonsult.se iCalcreator 2.10.15//
METHOD:PUBLISH
BEGIN:VEVENT
UID:20211006T215528CEST-012376Z0T9@https://vbal.lu/
DTSTAMP:20211006T195528Z
DESCRIPTION:&nbsp\;\n\n&nbsp\;\n https://vbal.lu/index.php/features/event/5
 7-d3d-vc-strassen-vs-vbal-2
DTSTART:20211120T140000Z
DTEND:20211120T160000Z
LOCATION:Hall Omnisport Strassen (41 Rue Feyder\, 8026 Strassen\, Luxembour
 g)
SUMMARY:D3D VC Strassen vs.VBAL 2
URL:https://vbal.lu/index.php/features/event/57-d3d-vc-strassen-vs-vbal-2
END:VEVENT
BEGIN:VEVENT
UID:20211006T215528CEST-0127wuDGwS@https://vbal.lu/
DTSTAMP:20211006T195528Z
DESCRIPTION: https://vbal.lu/index.php/features/event/85-d2d-vc-belair-2-vs
 -vbal-1
DTSTART:20211120T180000Z
DTEND:20211120T200000Z
LOCATION:Hall Omnisport Belair (14 Rue d'Ostende\, 2271 Luxembourg\, Luxemb
 urg)
SUMMARY:D2D VC Belair 2 vs. VBAL 1 
URL:https://vbal.lu/index.php/features/event/85-d2d-vc-belair-2-vs-vbal-1
END:VEVENT
END:VCALENDAR
