BEGIN:VCALENDAR
VERSION:2.0
PRODID:-//https://vbal.lu///NONSGML kigkonsult.se iCalcreator 2.10.15//
METHOD:PUBLISH
BEGIN:VEVENT
UID:20200426T120410CEST-19864jl0vi@https://vbal.lu/
DTSTAMP:20200426T100410Z
DESCRIPTION:&nbsp\;\n\n\n\nOch desst Joer verkeeft de VBAL erem seng lecker
 &nbsp\;Bio-Pangecher um Kass-Haff zu Rollingen (bei Miersch)!\n\n&nbsp\;\n
  https://vbal.lu/index.php/features/event/58-bio-nest-boerse-2020
DTSTART:20200321T100000Z
DTEND:20200321T180000Z
LOCATION:Rollingen (187 A Rue de Luxembourg\, 7540 Rollingen\, Luxembourg)
SUMMARY:Bio-Nest Börse 2020
URL:https://vbal.lu/index.php/features/event/58-bio-nest-boerse-2020
END:VEVENT
END:VCALENDAR
