BEGIN:VCALENDAR
VERSION:2.0
PRODID:-//https://vbal.lu///NONSGML kigkonsult.se iCalcreator 2.10.15//
METHOD:PUBLISH
BEGIN:VEVENT
UID:20210420T201151CEST-04357tiE6T@https://vbal.lu/
DTSTAMP:20210420T181151Z
DESCRIPTION:ASSEMBLÉE GÉNÉRALE ORDINAIRE\nVendredi\, le 18&nbsp\;septembre&
 nbsp\;2020&nbsp\;à 18:30 heures\nau Centre Polyvalent Gaston stein\n1\, ru
 e Emile Nilles&nbsp\;Junglinster&nbsp\;\n\nALL Member ass invitériert fir 
 iwwert d'Saison 2019/2020&nbsp\;an&nbsp\; iwer déi nächst Saison ze schwät
 zen.\n\nWat war gutt? Wat kenne mir verbesseren?\n\nOp dëser Versammlung k
 ann&nbsp\;jiddereen seng Ideen matdeelen. Duerno gett et och ee Patt !!\n
 \nFir de Succès vum VBAL sinn ALL eis&nbsp\;Membere&nbsp\;wichteg !\n\n&nb
 sp\;\n\nOrdre du jour&nbsp\;\n\n1) Mot de bienvenue de la présidente\n\n2)
  Présentation du rapport d’activités de la saison 2019/2020\n\n3) Activité
 s prévues pour la nouvelle saison 2020/2021\n\n4) Rapports des entraîneurs
 \n\n5) Présentation du rapport financier de la saison 2019/2020&nbsp\;et b
 udget prévisionnel pour la nouvelle saison\n\n6) Rapport de caisse par les
  réviseurs de caisse et décharge du&nbsp\;trésorier\n\n7) Décharge du cons
 eil d’administration\n\n8) Elections des membres du conseil d’administrati
 on : - Membre sortant : Jean-Claude Schiltz - Membres sortant et rééligibl
 es : / - Membre à confirmer :&nbsp\; Philippe Even - Nouvelles candidature
 s\n\n9) Nomination de 2 réviseurs de caisse\n\n10) Fixation des cotisation
 s pour la saison 2020/2021\n\n11) Distinction des membres méritants\n\n12)
  Divers / discussion libre&nbsp\;\n https://vbal.lu/index.php/component/rs
 eventspro/event/39-assemblee-generale-ordinaire
DTSTART:20200918T183000Z
DTEND:20200918T200000Z
LOCATION:Centre Polyvalent Gaston Stein - Jonglenster (Rue Emile Nilles\, 6
 131 Junglinster\, Luxembourg)
SUMMARY:ASSEMBLEE GENERALE ORDINAIRE
URL:https://vbal.lu/index.php/component/rseventspro/event/39-assemblee-gene
 rale-ordinaire
END:VEVENT
END:VCALENDAR
