BEGIN:VCALENDAR
VERSION:2.0
PRODID:-//https://vbal.lu///NONSGML kigkonsult.se iCalcreator 2.10.15//
METHOD:PUBLISH
BEGIN:VEVENT
UID:20180703T033056CEST-0469LfVVvO@https://vbal.lu/
DTSTAMP:20180703T013056Z
DESCRIPTION:\n\nEwéi all Joër\, verkeeft de VBAL während&nbsp\;2 Deeg selwe
 r gemachte Paangecher&nbsp\;an der rue de la Forgé!\nWien wëll hëllefe kom
 men\, kann e sech beim Anouck Neuen&nbsp\;mellen. Hei fannt dir och de&nbs
 p\;Chargeplang!\n\nHoraire: Samsdes vun 12.00-19.00 Auer\n&nbsp\;&nbsp\;&n
 bsp\;&nbsp\;&nbsp\;&nbsp\;&nbsp\;&nbsp\;&nbsp\;&nbsp\;&nbsp\;&nbsp\;&nbsp\
 ;&nbsp\;&nbsp\;&nbsp\;Sonndes vun 09.30-19.00 Auer\n\nLocalité:&nbsp\;an d
 er Buerg\n\nOrganisateur:&nbsp\;Syndicat d'Initiative aus der Gemeng Jongl
 ënster\n\nAuskunft: Tel: 78 72 72 -1\n https://vbal.lu/index.php/component
 /rseventspro/event/38-38-konschthandwierkerdeeg-an-der-buerg
DTSTART:20180616T120000Z
DTEND:20180617T190000Z
LOCATION:Bourglinster (8 Rue du Château\, 6162 Junglinster\, Luxembourg)
SUMMARY:38. Konschthandwierkerdeeg an der Buerg
URL:https://vbal.lu/index.php/component/rseventspro/event/38-38-konschthand
 wierkerdeeg-an-der-buerg
END:VEVENT
END:VCALENDAR
