BEGIN:VCALENDAR
VERSION:2.0
PRODID:-//https://vbal.lu///NONSGML kigkonsult.se iCalcreator 2.10.15//
METHOD:PUBLISH
BEGIN:VEVENT
UID:20211005T132947CEST-13532lSbbN@https://vbal.lu/
DTSTAMP:20211005T112947Z
DESCRIPTION:&nbsp\;\n\n&nbsp\;\n https://vbal.lu/index.php/component/rseven
 tspro/event/88-d1h-vbal-vs-volley-bartreng-2
DTSTART:20211016T160000Z
DTEND:20211016T180000Z
LOCATION:Hall Omnisport Junglinster (7 Route d'Echternach\, 6114 Junglinste
 r\, Luxembourg)
SUMMARY:D1H VBAL vs. Volley Bartreng 2
URL:https://vbal.lu/index.php/component/rseventspro/event/88-d1h-vbal-vs-vo
 lley-bartreng-2
END:VEVENT
END:VCALENDAR
