BEGIN:VCALENDAR
VERSION:2.0
PRODID:-//https://vbal.lu///NONSGML kigkonsult.se iCalcreator 2.10.15//
METHOD:PUBLISH
BEGIN:VEVENT
UID:20211005T132736CEST-8114LZM5Pn@https://vbal.lu/
DTSTAMP:20211005T112736Z
DESCRIPTION:&nbsp\;\n\n&nbsp\;\n https://vbal.lu/index.php/component/rseven
 tspro/event/84-d3d-vc-fentange-3-vs-vbal-2
DTSTART:20211010T170000Z
DTEND:20211010T190000Z
LOCATION:Centre Sportif Holleschbierg (Rue Holleschberg\, 5855 Hesperange\,
  Luxemburg)
SUMMARY:D3D VC Fentange 3 vs. VBAL 2
URL:https://vbal.lu/index.php/component/rseventspro/event/84-d3d-vc-fentang
 e-3-vs-vbal-2
END:VEVENT
END:VCALENDAR
