BEGIN:VCALENDAR
VERSION:2.0
PRODID:-//https://vbal.lu///NONSGML kigkonsult.se iCalcreator 2.10.15//
METHOD:PUBLISH
BEGIN:VEVENT
UID:20211005T132727CEST-0650vj1g9x@https://vbal.lu/
DTSTAMP:20211005T112727Z
DESCRIPTION: https://vbal.lu/index.php/component/rseventspro/event/92-d1h-c
 hev-diekirch-2-vs-vbal
DTSTART:20211009T150000Z
DTEND:20211009T170000Z
LOCATION:Hall Sportif Diekirch (Rue Joseph Merten\, 9260 Diekirch\, Luxembo
 urg)
SUMMARY:D1H  CHEV Diekirch 2 vs. VBAL
URL:https://vbal.lu/index.php/component/rseventspro/event/92-d1h-chev-dieki
 rch-2-vs-vbal
END:VEVENT
END:VCALENDAR
